Package: SpectriPy Version: 1.1.0 Command: /home/biocbuild/bbs-3.23-bioc/R/bin/R CMD INSTALL SpectriPy StartedAt: 2025-11-07 15:15:01 -0500 (Fri, 07 Nov 2025) EndedAt: 2025-11-07 15:15:31 -0500 (Fri, 07 Nov 2025) EllapsedTime: 30.4 seconds RetCode: 0 Status: OK