Package: SpectraQL Version: 1.5.0 Command: /home/biocbuild/bbs-3.23-bioc/R/bin/R CMD INSTALL SpectraQL StartedAt: 2025-11-18 16:07:12 -0500 (Tue, 18 Nov 2025) EndedAt: 2025-11-18 16:07:20 -0500 (Tue, 18 Nov 2025) EllapsedTime: 8.4 seconds RetCode: 0 Status: OK