Package: SpectraQL Version: 1.5.0 Command: /home/biocbuild/bbs-3.23-bioc/R/bin/R CMD build --keep-empty-dirs --no-resave-data SpectraQL StartedAt: 2025-11-18 21:06:03 -0500 (Tue, 18 Nov 2025) EndedAt: 2025-11-18 21:06:24 -0500 (Tue, 18 Nov 2025) EllapsedTime: 21.0 seconds RetCode: 0 Status: OK PackageFile: SpectraQL_1.5.0.tar.gz PackageFileSize: 514.2 KiB