Package: SpatialFeatureExperiment Version: 1.13.0 Command: /home/biocbuild/bbs-3.23-bioc/R/bin/R CMD build --keep-empty-dirs --no-resave-data SpatialFeatureExperiment StartedAt: 2025-11-07 20:10:20 -0500 (Fri, 07 Nov 2025) EndedAt: 2025-11-07 20:12:15 -0500 (Fri, 07 Nov 2025) EllapsedTime: 115.1 seconds RetCode: 1 Status: ERROR PackageFile: None PackageFileSize: NA