Package: SpatialFeatureExperiment Version: 1.13.0 Maintainer: Lambda Moses MaintainerEmail: dl3764 at columbia.edu git_url: https://git.bioconductor.org/packages/SpatialFeatureExperiment git_branch: devel git_last_commit: 06f0dbf git_last_commit_date: 2025-10-29 11:19:11 -0500 (Wed, 29 Oct 2025)