Package: SpatialExperiment Version: 1.21.0 Command: /home/biocbuild/bbs-3.23-bioc/R/bin/R CMD INSTALL SpatialExperiment StartedAt: 2025-11-07 15:19:47 -0500 (Fri, 07 Nov 2025) EndedAt: 2025-11-07 15:20:12 -0500 (Fri, 07 Nov 2025) EllapsedTime: 25.0 seconds RetCode: 0 Status: OK