Package: SpatialExperiment Version: 1.21.0 Command: /home/biocbuild/bbs-3.23-bioc/R/bin/R CMD build --keep-empty-dirs --no-resave-data SpatialExperiment StartedAt: 2025-11-07 20:09:43 -0500 (Fri, 07 Nov 2025) EndedAt: 2025-11-07 20:10:45 -0500 (Fri, 07 Nov 2025) EllapsedTime: 62.0 seconds RetCode: 0 Status: OK PackageFile: SpatialExperiment_1.21.0.tar.gz PackageFileSize: 5.157 MiB