Package: SpatialDecon Version: 1.21.0 Command: /home/biocbuild/bbs-3.23-bioc/R/bin/R CMD INSTALL SpatialDecon StartedAt: 2025-11-09 15:59:50 -0500 (Sun, 09 Nov 2025) EndedAt: 2025-11-09 16:00:14 -0500 (Sun, 09 Nov 2025) EllapsedTime: 23.7 seconds RetCode: 0 Status: OK