Package: SpatialDecon Version: 1.21.0 Maintainer: Maddy Griswold MaintainerEmail: mgriswold at nanostring.com git_url: https://git.bioconductor.org/packages/SpatialDecon git_branch: devel git_last_commit: da636b3 git_last_commit_date: 2025-10-29 11:03:25 -0500 (Wed, 29 Oct 2025)