Package: SparseSignatures Version: 2.21.0 Maintainer: Luca De Sano MaintainerEmail: luca.desano at gmail.com git_url: https://git.bioconductor.org/packages/SparseSignatures git_branch: devel git_last_commit: 4635876 git_last_commit_date: 2025-10-29 10:44:43 -0500 (Wed, 29 Oct 2025)