Package: SparseArray Version: 1.11.1 Command: /home/biocbuild/bbs-3.23-bioc/R/bin/R CMD INSTALL SparseArray StartedAt: 2025-11-07 15:14:44 -0500 (Fri, 07 Nov 2025) EndedAt: 2025-11-07 15:14:48 -0500 (Fri, 07 Nov 2025) EllapsedTime: 4.1 seconds RetCode: 1 Status: ERROR