Package: SparseArray Version: 1.11.2 Command: /home/biocbuild/bbs-3.23-bioc/R/bin/R CMD check --install=check:SparseArray.install-out.txt --library=/home/biocbuild/bbs-3.23-bioc/R/site-library --timings SparseArray_1.11.2.tar.gz StartedAt: 2025-11-20 04:15:00 -0500 (Thu, 20 Nov 2025) EndedAt: 2025-11-20 04:19:40 -0500 (Thu, 20 Nov 2025) EllapsedTime: 280.3 seconds RetCode: 0 Status: OK CheckDir: SparseArray.Rcheck Warnings: 0