Package: SparseArray Version: 1.11.1 Maintainer: Hervé Pagès MaintainerEmail: hpages.on.github at gmail.com git_url: https://git.bioconductor.org/packages/SparseArray git_branch: devel git_last_commit: f62ecd6 git_last_commit_date: 2025-11-07 02:12:16 -0500 (Fri, 07 Nov 2025)