Package: SomaticSignatures Version: 2.47.0 Command: /home/biocbuild/bbs-3.23-bioc/R/bin/R CMD INSTALL SomaticSignatures StartedAt: 2025-11-23 15:47:39 -0500 (Sun, 23 Nov 2025) EndedAt: 2025-11-23 15:48:33 -0500 (Sun, 23 Nov 2025) EllapsedTime: 54.2 seconds RetCode: 0 Status: OK