Package: SingleCellSignalR Version: 2.1.0 Command: /home/biocbuild/bbs-3.23-bioc/R/bin/R CMD INSTALL SingleCellSignalR StartedAt: 2025-11-07 15:59:42 -0500 (Fri, 07 Nov 2025) EndedAt: 2025-11-07 16:00:32 -0500 (Fri, 07 Nov 2025) EllapsedTime: 49.9 seconds RetCode: 0 Status: OK