Package: SingleCellSignalR Version: 2.1.0 Command: /home/biocbuild/bbs-3.23-bioc/R/bin/R CMD build --keep-empty-dirs --no-resave-data SingleCellSignalR StartedAt: 2025-11-07 20:03:36 -0500 (Fri, 07 Nov 2025) EndedAt: 2025-11-07 20:04:46 -0500 (Fri, 07 Nov 2025) EllapsedTime: 70.1 seconds RetCode: 0 Status: OK PackageFile: SingleCellSignalR_2.1.0.tar.gz PackageFileSize: 173.8 KiB