Package: SharedObject Version: 1.25.0 Command: /home/biocbuild/bbs-3.23-bioc/R/bin/R CMD INSTALL SharedObject StartedAt: 2025-11-09 15:11:30 -0500 (Sun, 09 Nov 2025) EndedAt: 2025-11-09 15:11:58 -0500 (Sun, 09 Nov 2025) EllapsedTime: 27.3 seconds RetCode: 0 Status: OK