Package: SharedObject Version: 1.25.0 Maintainer: Jiefei Wang MaintainerEmail: szwjf08 at gmail.com git_url: https://git.bioconductor.org/packages/SharedObject git_branch: devel git_last_commit: 1ded86d git_last_commit_date: 2025-10-29 10:54:16 -0500 (Wed, 29 Oct 2025)