Package: SeqArray Version: 1.51.0 Maintainer: Xiuwen Zheng MaintainerEmail: zhengx at u.washington.edu git_url: https://git.bioconductor.org/packages/SeqArray git_branch: devel git_last_commit: bcbe85d git_last_commit_date: 2025-10-29 10:14:07 -0500 (Wed, 29 Oct 2025)