Package: ScreenR Version: 1.13.0 Command: /home/biocbuild/bbs-3.23-bioc/R/bin/R CMD build --keep-empty-dirs --no-resave-data ScreenR StartedAt: 2025-11-13 19:57:19 -0500 (Thu, 13 Nov 2025) EndedAt: 2025-11-13 19:58:27 -0500 (Thu, 13 Nov 2025) EllapsedTime: 68.0 seconds RetCode: 0 Status: OK PackageFile: ScreenR_1.13.0.tar.gz PackageFileSize: 1.87 MiB