Package: Scale4C Version: 1.33.0 Command: /home/biocbuild/bbs-3.23-bioc/R/bin/R CMD INSTALL Scale4C StartedAt: 2025-11-27 15:17:36 -0500 (Thu, 27 Nov 2025) EndedAt: 2025-11-27 15:17:59 -0500 (Thu, 27 Nov 2025) EllapsedTime: 23.1 seconds RetCode: 0 Status: OK