Package: SQLDataFrame Version: 1.25.0 Maintainer: Qian Liu MaintainerEmail: Qian.Liu at RoswellPark.org git_url: https://git.bioconductor.org/packages/SQLDataFrame git_branch: devel git_last_commit: bef96d3 git_last_commit_date: 2025-10-29 10:52:35 -0500 (Wed, 29 Oct 2025)