Package: SPsimSeq Version: 1.21.0 Maintainer: Joris Meys MaintainerEmail: Joris.Meys at ugent.be git_url: https://git.bioconductor.org/packages/SPsimSeq git_branch: devel git_last_commit: c584581 git_last_commit_date: 2025-10-29 11:00:01 -0500 (Wed, 29 Oct 2025)