Package: SPIAT Version: 1.13.0 Command: /home/biocbuild/bbs-3.23-bioc/R/bin/R CMD build --keep-empty-dirs --no-resave-data SPIAT StartedAt: 2025-11-21 20:16:14 -0500 (Fri, 21 Nov 2025) EndedAt: 2025-11-21 20:18:49 -0500 (Fri, 21 Nov 2025) EllapsedTime: 155.1 seconds RetCode: 0 Status: OK PackageFile: SPIAT_1.13.0.tar.gz PackageFileSize: 7.367 MiB