Package: SIMLR Version: 1.37.0 Maintainer: Luca De Sano MaintainerEmail: luca.desano at gmail.com git_url: https://git.bioconductor.org/packages/SIMLR git_branch: devel git_last_commit: c71cdab git_last_commit_date: 2025-10-29 10:34:34 -0500 (Wed, 29 Oct 2025)