Package: SCArray Version: 1.19.0 Maintainer: Xiuwen Zheng MaintainerEmail: xiuwen.zheng at abbvie.com git_url: https://git.bioconductor.org/packages/SCArray git_branch: devel git_last_commit: d488bb9 git_last_commit_date: 2025-10-29 11:05:31 -0500 (Wed, 29 Oct 2025)