Package: SC3 Version: 1.39.0 Maintainer: Vladimir Kiselev MaintainerEmail: vladimir.yu.kiselev at gmail.com git_url: https://git.bioconductor.org/packages/SC3 git_branch: devel git_last_commit: 177cc94 git_last_commit_date: 2025-10-29 10:29:27 -0500 (Wed, 29 Oct 2025)