Package: Rvisdiff Version: 1.9.0 Command: /home/biocbuild/bbs-3.23-bioc/R/bin/R CMD check --install=check:Rvisdiff.install-out.txt --library=/home/biocbuild/bbs-3.23-bioc/R/site-library --timings Rvisdiff_1.9.0.tar.gz StartedAt: 2025-11-08 03:25:30 -0500 (Sat, 08 Nov 2025) EndedAt: 2025-11-08 03:29:01 -0500 (Sat, 08 Nov 2025) EllapsedTime: 211.3 seconds RetCode: 0 Status: OK CheckDir: Rvisdiff.Rcheck Warnings: 0