Package: Rvisdiff Version: 1.9.0 Maintainer: David Barrios MaintainerEmail: metal at usal.es git_url: https://git.bioconductor.org/packages/Rvisdiff git_branch: devel git_last_commit: ba8b3d8 git_last_commit_date: 2025-10-29 11:25:13 -0500 (Wed, 29 Oct 2025)