Package: Rigraphlib Version: 1.3.1 Command: /home/biocbuild/bbs-3.23-bioc/R/bin/R CMD build --keep-empty-dirs --no-resave-data Rigraphlib StartedAt: 2025-11-07 19:35:00 -0500 (Fri, 07 Nov 2025) EndedAt: 2025-11-07 19:35:13 -0500 (Fri, 07 Nov 2025) EllapsedTime: 13.0 seconds RetCode: 0 Status: OK PackageFile: Rigraphlib_1.3.1.tar.gz PackageFileSize: 4.573 MiB