Package: Rigraphlib Version: 1.3.1 Maintainer: Aaron Lun MaintainerEmail: infinite.monkeys.with.keyboards at gmail.com git_url: https://git.bioconductor.org/packages/Rigraphlib git_branch: devel git_last_commit: 445817d git_last_commit_date: 2025-10-30 23:59:58 -0500 (Thu, 30 Oct 2025)