Package: Rhtslib Version: 3.7.0 Maintainer: Hervé Pagès MaintainerEmail: hpages.on.github at gmail.com git_url: https://git.bioconductor.org/packages/Rhtslib git_branch: devel git_last_commit: 0dcad2a git_last_commit_date: 2025-10-29 14:52:40 -0500 (Wed, 29 Oct 2025)