Package: Rhdf5lib Version: 1.33.0 Maintainer: Hugo Gruson MaintainerEmail: hugo.gruson at embl.de git_url: https://git.bioconductor.org/packages/Rhdf5lib git_branch: devel git_last_commit: f6dc8d9 git_last_commit_date: 2025-10-29 10:39:14 -0500 (Wed, 29 Oct 2025)