Package: Rgraphviz Version: 2.55.0 Command: /home/biocbuild/bbs-3.23-bioc/R/bin/R CMD build --keep-empty-dirs --no-resave-data Rgraphviz StartedAt: 2025-11-07 19:32:11 -0500 (Fri, 07 Nov 2025) EndedAt: 2025-11-07 19:33:42 -0500 (Fri, 07 Nov 2025) EllapsedTime: 91.1 seconds RetCode: 0 Status: OK PackageFile: Rgraphviz_2.55.0.tar.gz PackageFileSize: 7.31 MiB