Package: Repitools Version: 1.55.2 Command: /home/biocbuild/bbs-3.23-bioc/R/bin/R CMD INSTALL Repitools StartedAt: 2025-10-22 21:57:21 -0000 (Wed, 22 Oct 2025) EndedAt: 2025-10-22 21:57:22 -0000 (Wed, 22 Oct 2025) EllapsedTime: 0.5 seconds RetCode: 1 Status: ERROR