Package: RedisParam Version: 1.13.0 Maintainer: Martin Morgan MaintainerEmail: mtmorgan.bioc at gmail.com git_url: https://git.bioconductor.org/packages/RedisParam git_branch: devel git_last_commit: 28d0b73 git_last_commit_date: 2025-10-29 11:17:49 -0500 (Wed, 29 Oct 2025)