Back to Build/check report for BioC 3.23:   simplified   long
ABCDEFGHIJKLMNOPQ[R]STUVWXYZ

This page was generated on 2025-11-08 11:32 -0500 (Sat, 08 Nov 2025).

HostnameOSArch (*)R versionInstalled pkgs
nebbiolo1Linux (Ubuntu 24.04.3 LTS)x86_64R Under development (unstable) (2025-10-20 r88955) -- "Unsuffered Consequences" 4821
Click on any hostname to see more info about the system (e.g. compilers)      (*) as reported by 'uname -p', except on Windows and Mac OS X

All results for package RedeR


To the developers/maintainers of the RedeR package:
- Allow up to 24 hours (and sometimes 48 hours) for your latest push to git@git.bioconductor.org:packages/RedeR.git to reflect on this report. See Troubleshooting Build Report for more information.
- Use the following Renviron settings to reproduce errors and warnings.
- If 'R CMD check' started to fail recently on the Linux builder(s) over a missing dependency, add the missing dependency to 'Suggests:' in your DESCRIPTION file. See Renviron.bioc for more information.

raw results

Package 1728/2323HostnameOS / ArchINSTALLBUILDCHECKBUILD BIN
RedeR 3.7.0  (landing page)
Mauro Castro
Snapshot Date: 2025-11-07 13:40 -0500 (Fri, 07 Nov 2025)
git_url: https://git.bioconductor.org/packages/RedeR
git_branch: devel
git_last_commit: 2792dd8
git_last_commit_date: 2025-10-29 10:08:13 -0500 (Wed, 29 Oct 2025)
nebbiolo1Linux (Ubuntu 24.04.3 LTS) / x86_64  OK    OK    OK  UNNEEDED, same version is already published



Results for Bioconductor software packages that depend directly on package RedeR

QUICK STATSOS / ArchINSTALLBUILDCHECKBUILD BIN
nebbiolo1Linux (Ubuntu 24.04.3 LTS) / x86_64
004
004
0004
Package 1/4HostnameOS / ArchINSTALLBUILDCHECKBUILD BIN
PANR 1.57.0  (landing page)
Xin Wang
git_last_commit: 12acbc0
git_last_commit_date: 2025-10-29 10:08:44 -0500
nebbiolo1Linux (Ubuntu 24.04.3 LTS) / x86_64  OK    OK    OK  UNNEEDED, same version is already published
Package 2/4HostnameOS / ArchINSTALLBUILDCHECKBUILD BIN
RTN 2.35.0  (landing page)
Mauro Castro
git_last_commit: 4efc78c
git_last_commit_date: 2025-10-29 10:15:52 -0500
nebbiolo1Linux (Ubuntu 24.04.3 LTS) / x86_64  OK    OK    OK  UNNEEDED, same version is already published
Package 3/4HostnameOS / ArchINSTALLBUILDCHECKBUILD BIN
transcriptogramer 1.33.0  (landing page)
Diego Morais
git_last_commit: c57474a
git_last_commit_date: 2025-10-29 10:42:09 -0500
nebbiolo1Linux (Ubuntu 24.04.3 LTS) / x86_64  OK    OK    OK  UNNEEDED, same version is already published
Package 4/4HostnameOS / ArchINSTALLBUILDCHECKBUILD BIN
TreeAndLeaf 1.23.0  (landing page)
Milena A. Cardoso
git_last_commit: f0aa6ca
git_last_commit_date: 2025-10-29 10:56:45 -0500
nebbiolo1Linux (Ubuntu 24.04.3 LTS) / x86_64  OK    OK    OK  UNNEEDED, same version is already published