Package: ReactomePA Version: 1.55.0 Command: /home/biocbuild/bbs-3.23-bioc/R/bin/R CMD INSTALL ReactomePA StartedAt: 2025-11-09 15:46:22 -0500 (Sun, 09 Nov 2025) EndedAt: 2025-11-09 15:46:46 -0500 (Sun, 09 Nov 2025) EllapsedTime: 23.8 seconds RetCode: 0 Status: OK