Package: ReactomePA Version: 1.55.0 Maintainer: Guangchuang Yu MaintainerEmail: guangchuangyu at gmail.com git_url: https://git.bioconductor.org/packages/ReactomePA git_branch: devel git_last_commit: 37ccc0d git_last_commit_date: 2025-10-29 10:10:37 -0500 (Wed, 29 Oct 2025)