Package: ReactomeGSA Version: 1.25.0 Maintainer: Johannes Griss MaintainerEmail: johannes.griss at meduniwien.ac.at git_url: https://git.bioconductor.org/packages/ReactomeGSA git_branch: devel git_last_commit: 473b5b6 git_last_commit_date: 2025-10-29 10:54:21 -0500 (Wed, 29 Oct 2025)