Package: ReUseData Version: 1.11.0 Maintainer: Qian Liu MaintainerEmail: qian.liu at roswellpark.org git_url: https://git.bioconductor.org/packages/ReUseData git_branch: devel git_last_commit: 4a5d06b git_last_commit_date: 2025-10-29 11:20:44 -0500 (Wed, 29 Oct 2025)