Package: RcwlPipelines Version: 1.27.0 Command: /home/biocbuild/bbs-3.23-bioc/R/bin/R CMD INSTALL RcwlPipelines StartedAt: 2025-11-21 15:13:11 -0500 (Fri, 21 Nov 2025) EndedAt: 2025-11-21 15:13:24 -0500 (Fri, 21 Nov 2025) EllapsedTime: 13.1 seconds RetCode: 0 Status: OK