Package: RUVnormalize Version: 1.45.0 Command: /home/biocbuild/bbs-3.23-bioc/R/bin/R CMD INSTALL RUVnormalize StartedAt: 2025-11-09 15:56:48 -0500 (Sun, 09 Nov 2025) EndedAt: 2025-11-09 15:56:52 -0500 (Sun, 09 Nov 2025) EllapsedTime: 3.0 seconds RetCode: 0 Status: OK