Back to Build/check report for BioC 3.23:   simplified   long
ABCDEFGHIJKLMNOPQ[R]STUVWXYZ

This page was generated on 2025-11-08 11:32 -0500 (Sat, 08 Nov 2025).

HostnameOSArch (*)R versionInstalled pkgs
nebbiolo1Linux (Ubuntu 24.04.3 LTS)x86_64R Under development (unstable) (2025-10-20 r88955) -- "Unsuffered Consequences" 4821
Click on any hostname to see more info about the system (e.g. compilers)      (*) as reported by 'uname -p', except on Windows and Mac OS X

All results for package RUVSeq


To the developers/maintainers of the RUVSeq package:
- Allow up to 24 hours (and sometimes 48 hours) for your latest push to git@git.bioconductor.org:packages/RUVSeq.git to reflect on this report. See Troubleshooting Build Report for more information.
- Use the following Renviron settings to reproduce errors and warnings.
- If 'R CMD check' started to fail recently on the Linux builder(s) over a missing dependency, add the missing dependency to 'Suggests:' in your DESCRIPTION file. See Renviron.bioc for more information.

raw results

Package 1843/2323HostnameOS / ArchINSTALLBUILDCHECKBUILD BIN
RUVSeq 1.45.0  (landing page)
Davide Risso
Snapshot Date: 2025-11-07 13:40 -0500 (Fri, 07 Nov 2025)
git_url: https://git.bioconductor.org/packages/RUVSeq
git_branch: devel
git_last_commit: 7e08fb9
git_last_commit_date: 2025-10-29 10:19:52 -0500 (Wed, 29 Oct 2025)
nebbiolo1Linux (Ubuntu 24.04.3 LTS) / x86_64  OK    OK    OK  UNNEEDED, same version is already published



Results for Bioconductor software packages that depend directly on package RUVSeq

QUICK STATSOS / ArchINSTALLBUILDCHECKBUILD BIN
nebbiolo1Linux (Ubuntu 24.04.3 LTS) / x86_64
014
014
0004
Package 1/5HostnameOS / ArchINSTALLBUILDCHECKBUILD BIN
consensusDE 1.29.0  (landing page)
Ashley J. Waardenberg
git_last_commit: e69df52
git_last_commit_date: 2025-10-29 10:48:35 -0500
nebbiolo1Linux (Ubuntu 24.04.3 LTS) / x86_64  ERROR    ERROR  skipped
Package 2/5HostnameOS / ArchINSTALLBUILDCHECKBUILD BIN
octad 1.13.0  (landing page)
E. Chekalin
git_last_commit: 27dcaeb
git_last_commit_date: 2025-10-29 11:19:54 -0500
nebbiolo1Linux (Ubuntu 24.04.3 LTS) / x86_64  OK    OK    OK  UNNEEDED, same version is already published
Package 3/5HostnameOS / ArchINSTALLBUILDCHECKBUILD BIN
ribosomeProfilingQC 1.23.0  (landing page)
Jianhong Ou
git_last_commit: bad02b9
git_last_commit_date: 2025-10-29 10:57:03 -0500
nebbiolo1Linux (Ubuntu 24.04.3 LTS) / x86_64  OK    OK    OK  UNNEEDED, same version is already published
Package 4/5HostnameOS / ArchINSTALLBUILDCHECKBUILD BIN
scone 1.35.0  (landing page)
Davide Risso
git_last_commit: 60f7f37
git_last_commit_date: 2025-10-29 10:36:05 -0500
nebbiolo1Linux (Ubuntu 24.04.3 LTS) / x86_64  OK    OK    OK  UNNEEDED, same version is already published
Package 5/5HostnameOS / ArchINSTALLBUILDCHECKBUILD BIN
standR 1.15.0  (landing page)
Ning Liu
git_last_commit: 9a79065
git_last_commit_date: 2025-10-29 11:16:04 -0500
nebbiolo1Linux (Ubuntu 24.04.3 LTS) / x86_64  OK    OK    OK  UNNEEDED, same version is already published