Package: RTCGAToolbox Version: 2.41.0 Maintainer: Marcel Ramos MaintainerEmail: marcel.ramos at sph.cuny.edu git_url: https://git.bioconductor.org/packages/RTCGAToolbox git_branch: devel git_last_commit: d55f300 git_last_commit_date: 2025-10-29 10:26:09 -0500 (Wed, 29 Oct 2025)