Package: RTCA Version: 1.63.0 Command: /home/biocbuild/bbs-3.23-bioc/R/bin/R CMD build --keep-empty-dirs --no-resave-data RTCA StartedAt: 2025-11-09 19:39:55 -0500 (Sun, 09 Nov 2025) EndedAt: 2025-11-09 19:40:06 -0500 (Sun, 09 Nov 2025) EllapsedTime: 11.0 seconds RetCode: 0 Status: OK PackageFile: RTCA_1.63.0.tar.gz PackageFileSize: 336.8 KiB