Package: RProtoBufLib Version: 2.23.0 Command: /home/biocbuild/bbs-3.23-bioc/R/bin/R CMD INSTALL RProtoBufLib StartedAt: 2025-11-09 15:02:32 -0500 (Sun, 09 Nov 2025) EndedAt: 2025-11-09 15:07:11 -0500 (Sun, 09 Nov 2025) EllapsedTime: 279.2 seconds RetCode: 0 Status: OK