Package: RProtoBufLib Version: 2.23.0 Command: /home/biocbuild/bbs-3.23-bioc/R/bin/R CMD build --keep-empty-dirs --no-resave-data RProtoBufLib StartedAt: 2025-11-09 19:38:49 -0500 (Sun, 09 Nov 2025) EndedAt: 2025-11-09 19:43:23 -0500 (Sun, 09 Nov 2025) EllapsedTime: 274.4 seconds RetCode: 0 Status: OK PackageFile: RProtoBufLib_2.23.0.tar.gz PackageFileSize: 2.84 MiB