Package: ROSeq Version: 1.23.0 Command: /home/biocbuild/bbs-3.23-bioc/R/bin/R CMD INSTALL ROSeq StartedAt: 2025-11-25 15:04:03 -0500 (Tue, 25 Nov 2025) EndedAt: 2025-11-25 15:04:23 -0500 (Tue, 25 Nov 2025) EllapsedTime: 20.0 seconds RetCode: 0 Status: OK