Package: ROSeq Version: 1.23.0 Command: /home/biocbuild/bbs-3.23-bioc/R/bin/R CMD build --keep-empty-dirs --no-resave-data ROSeq StartedAt: 2025-11-25 19:44:21 -0500 (Tue, 25 Nov 2025) EndedAt: 2025-11-25 19:47:59 -0500 (Tue, 25 Nov 2025) EllapsedTime: 217.5 seconds RetCode: 0 Status: OK PackageFile: ROSeq_1.23.0.tar.gz PackageFileSize: 4.19 MiB